BEGIN:VCALENDAR
VERSION:2.0
PRODID:-//ChamberMaster//Event Calendar 2.0//EN
METHOD:PUBLISH
X-PUBLISHED-TTL:P3D
REFRESH-INTERVAL:P3D
CALSCALE:GREGORIAN
BEGIN:VEVENT
DTSTART:20250828T160000Z
DTEND:20250828T170000Z
X-MICROSOFT-CDO-ALLDAYEVENT:FALSE
SUMMARY:Young Professional's Luncheon
DESCRIPTION:
X-ALT-DESC;FMTTYPE=text/html:
LOCATION:Rock Bridge Church of Chatsworth
UID:e.3373.2732
SEQUENCE:3
DTSTAMP:20260420T050857Z
URL:https://members.murraycountychamber.org/events/details/young-professional-s-luncheon-2732
END:VEVENT

END:VCALENDAR
