BEGIN:VCALENDAR
VERSION:2.0
PRODID:-//ChamberMaster//Event Calendar 2.0//EN
METHOD:PUBLISH
X-PUBLISHED-TTL:P3D
REFRESH-INTERVAL:P3D
CALSCALE:GREGORIAN
BEGIN:VEVENT
DTSTART:20250319T203000Z
DTEND:20250319T210000Z
X-MICROSOFT-CDO-ALLDAYEVENT:FALSE
SUMMARY:Ribbon Cutting for Temple Care & Wellness
DESCRIPTION:Ribbon Cutting Celebrating the opening of Temple Care & Wellness
X-ALT-DESC;FMTTYPE=text/html:Ribbon Cutting Celebrating the opening of Temple Care &amp\; Wellness
LOCATION:1422 Green Rd Chatsworth\, GA 30705
UID:e.3373.2713
SEQUENCE:3
DTSTAMP:20260423T081254Z
URL:https://members.murraycountychamber.org/events/details/ribbon-cutting-for-temple-care-wellness-2713
END:VEVENT

END:VCALENDAR
