BEGIN:VCALENDAR
VERSION:2.0
PRODID:-//ChamberMaster//Event Calendar 2.0//EN
METHOD:PUBLISH
X-PUBLISHED-TTL:P3D
REFRESH-INTERVAL:P3D
CALSCALE:GREGORIAN
BEGIN:VEVENT
DTSTART:20260212T133000Z
DTEND:20260212T153000Z
X-MICROSOFT-CDO-ALLDAYEVENT:FALSE
SUMMARY:Murray County Chamber Annual Meeting
DESCRIPTION:Annual Meeting
X-ALT-DESC;FMTTYPE=text/html:Annual Meeting
LOCATION:Rock Bridge Community Church 40 Bowtie Blvd Chatsworth\, GA
UID:e.3373.2747
SEQUENCE:3
DTSTAMP:20260422T000657Z
URL:https://members.murraycountychamber.org/events/details/murray-county-chamber-annual-meeting-2747
END:VEVENT

END:VCALENDAR
